BEGIN:VCALENDAR
VERSION:2.0
PRODID:-//Torbay Coast &amp; Countryside Trust - ECPv6.15.13//NONSGML v1.0//EN
CALSCALE:GREGORIAN
METHOD:PUBLISH
X-ORIGINAL-URL:https://www.countryside-trust.org.uk
X-WR-CALDESC:Events for Torbay Coast &amp; Countryside Trust
REFRESH-INTERVAL;VALUE=DURATION:PT1H
X-Robots-Tag:noindex
X-PUBLISHED-TTL:PT1H
BEGIN:VTIMEZONE
TZID:Europe/London
BEGIN:DAYLIGHT
TZOFFSETFROM:+0000
TZOFFSETTO:+0100
TZNAME:BST
DTSTART:20210328T010000
END:DAYLIGHT
BEGIN:STANDARD
TZOFFSETFROM:+0100
TZOFFSETTO:+0000
TZNAME:GMT
DTSTART:20211031T010000
END:STANDARD
BEGIN:DAYLIGHT
TZOFFSETFROM:+0000
TZOFFSETTO:+0100
TZNAME:BST
DTSTART:20220327T010000
END:DAYLIGHT
BEGIN:STANDARD
TZOFFSETFROM:+0100
TZOFFSETTO:+0000
TZNAME:GMT
DTSTART:20221030T010000
END:STANDARD
BEGIN:DAYLIGHT
TZOFFSETFROM:+0000
TZOFFSETTO:+0100
TZNAME:BST
DTSTART:20230326T010000
END:DAYLIGHT
BEGIN:STANDARD
TZOFFSETFROM:+0100
TZOFFSETTO:+0000
TZNAME:GMT
DTSTART:20231029T010000
END:STANDARD
BEGIN:DAYLIGHT
TZOFFSETFROM:+0000
TZOFFSETTO:+0100
TZNAME:BST
DTSTART:20240331T010000
END:DAYLIGHT
BEGIN:STANDARD
TZOFFSETFROM:+0100
TZOFFSETTO:+0000
TZNAME:GMT
DTSTART:20241027T010000
END:STANDARD
BEGIN:DAYLIGHT
TZOFFSETFROM:+0000
TZOFFSETTO:+0100
TZNAME:BST
DTSTART:20250330T010000
END:DAYLIGHT
BEGIN:STANDARD
TZOFFSETFROM:+0100
TZOFFSETTO:+0000
TZNAME:GMT
DTSTART:20251026T010000
END:STANDARD
BEGIN:DAYLIGHT
TZOFFSETFROM:+0000
TZOFFSETTO:+0100
TZNAME:BST
DTSTART:20260329T010000
END:DAYLIGHT
BEGIN:STANDARD
TZOFFSETFROM:+0100
TZOFFSETTO:+0000
TZNAME:GMT
DTSTART:20261025T010000
END:STANDARD
END:VTIMEZONE
BEGIN:VEVENT
DTSTART;TZID=Europe/London:20250214T150000
DTEND;TZID=Europe/London:20250214T163000
DTSTAMP:20260420T061111
CREATED:20250121T130606Z
LAST-MODIFIED:20250210T115926Z
UID:10001537-1739545200-1739550600@www.countryside-trust.org.uk
SUMMARY:Valentine's Afternoon Tea at Occombe Farm Cafe
DESCRIPTION:*NOW FULLY BOOKED* \nTreat yourself and your loved one to a romantic Valentine’s Afternoon Tea at Occombe Farm Café\, designed to create a memorable experience this Valentine’s weekend. \nAvailable on selected dates only:\nFriday 14th\, Saturday 15th & Sunday 16th February\nBook your slot: 3pm–4.30pm \nWhat’s Included:\nSavour a delightful selection of sweet and savoury treats: \n\nFour Farm-made Buttermilk Scones with clotted cream & jam\nPassion Fruit Possets\nChef’s Mini Pavlova Roulades\nChocolate Éclairs\nA selection of sandwiches:\n\nEgg Mayonnaise\nSmoked Salmon & Cucumber\nMustard Glazed Honey Ham\n\n\n\nServed with your choice of tea or Americano. \nPrice: £34.95 for 2 \nWhy Choose Occombe Farm Café?\nEnjoy a warm\, inviting atmosphere and delicious farm-made food\, perfect for celebrating this Valentine’s weekend. \nBooking Essential! Spaces are limited – Book now and make this Valentine’s a celebration to remember! \nA little note: the contents of our afternoon teas varies from the image shown and is used for reference only.
URL:https://www.countryside-trust.org.uk/event/valentines-afternoon-tea-at-occombe-farm-cafe/
CATEGORIES:Bird watching,Litter pick,Members Event,Occombe Farm,Rock pooling
ATTACH;FMTTYPE=image/png:https://www.countryside-trust.org.uk/wp-content/uploads/2025/01/occombe-valentines-tea-25.png
END:VEVENT
BEGIN:VEVENT
DTSTART;TZID=Europe/London:20250214T123000
DTEND;TZID=Europe/London:20250214T153000
DTSTAMP:20260420T061111
CREATED:20250121T102353Z
LAST-MODIFIED:20250210T120050Z
UID:10001535-1739536200-1739547000@www.countryside-trust.org.uk
SUMMARY:Valentine's Lunch Sharing Platter - Occombe Farm Cafe
DESCRIPTION:*NOW FULLY BOOKED* \nTreat your special someone to an unforgettable Valentine’s Sharing Platter at Occombe Farm Café. Designed for lovebirds\, our menu promises a memorable dining experience full of flavour and indulgence. \nAvailable for a limited time only: \nFriday 14th\, Saturday 15th & Sunday 16th February\nBook your slot: 12.30pm\, 1pm\, or 1.30pm \nMenu Highlights\nEnjoy a mouth-watering selection of dishes\, lovingly prepared to share: \n\nCrispy Squid in Teriyaki Sauce with sesame seeds and spring onions\nSticky BBQ Pork Belly Bites\nHalloumi Fries with Greek yoghurt\, dukkah\, and pomegranate\nButtermilk Marinated Chicken Strips with sweet chilli sauce\n\nDesserts to melt your heart: \n\nEton Mess with passionfruit curd\nSticky Toffee Pudding with caramel sauce and honeycomb ice cream\nWarm Gooey Chocolate Fondant Pudding\n\nPrice: £29.95 per couple \nWhy Choose Occombe Farm Café for Valentine’s Day? \nCreate lasting memories with a romantic setting\, delicious food\, and a warm atmosphere. \nLimited Availability – Booking is Essential! \nPre-payment in full is required to secure your booking. Reserve your table today to avoid disappointment! Make your Valentine’s weekend truly special with an experience to savour.
URL:https://www.countryside-trust.org.uk/event/valentines-lunch-sharing-platter-occombe-farm-cafe/
CATEGORIES:Bird watching,Litter pick,Members Event,Occombe Farm,Rock pooling
ATTACH;FMTTYPE=image/png:https://www.countryside-trust.org.uk/wp-content/uploads/2025/01/occombe-valentines-sharing-platter-1800px.png
END:VEVENT
BEGIN:VEVENT
DTSTART;TZID=Europe/London:20221025T100000
DTEND;TZID=Europe/London:20221025T120000
DTSTAMP:20260420T061111
CREATED:20220518T153043Z
LAST-MODIFIED:20220823T121529Z
UID:10001169-1666692000-1666699200@www.countryside-trust.org.uk
SUMMARY:Hope's Nose litter picks
DESCRIPTION:Please help us clean up Hope’s Nose. Join us for a litter pick on the dates below at 10am\, meeting at the entrance to Hope’s Nose. Please bring stout footwear and suitable gloves and clothing for the weather. Please note that access to this site is steep and uneven\, which requires you to be of good health and fitness. We will be continuing our litter picking throughout the summer\, so please join us on: \n\n31 August\n27 September\n25 October\n\nSuitable for: 18yrs+ \nMeeting point: Entrance to Hope’s Nose at 10am \nAdditional information: No need to book\, please just turn up. Please bring suitable gloves and wear clothing to match the weather and stout footwear. Bags and litter pickers will be provided.
URL:https://www.countryside-trust.org.uk/event/hopes-nose-litter-picks/2022-10-25/
LOCATION:Hope’s Nose\, Torquay\, TQ1 2HT
CATEGORIES:Litter pick
ATTACH;FMTTYPE=image/jpeg:https://www.countryside-trust.org.uk/wp-content/uploads/2022/05/Hopes-Nose-square-scaled.jpg
END:VEVENT
BEGIN:VEVENT
DTSTART;TZID=Europe/London:20220923T103000
DTEND;TZID=Europe/London:20220923T123000
DTSTAMP:20260420T061111
CREATED:20220825T214431Z
LAST-MODIFIED:20220825T214645Z
UID:10001605-1663929000-1663936200@www.countryside-trust.org.uk
SUMMARY:Beach Clean for Beach Clean Week
DESCRIPTION:Love your beach? Care about your coast? Join us for a beach clean on Beach Clean Week and help record data to input into the annual summary report for the Marine Conservation Society. After the beach clean\, join our marine ranger for a rock pooling session to learn more about the marine life within Torbay and how it is affected by the rubbish along our coastline. \nTo sign up\, please visit the following link: \nSaltern Cove Beach Clean with Torbay Coast and Countryside Trust | Marine Conservation Society (mcsuk.org) \nSuitable for: All ages. Children must be accompanied by an adult. \nMeeting point: Goodrington Sands in front of Brewers Fayre. \nAdditional information: Please where suitable footwear and clothing for the weather\, all litter picking equipment will be provided.
URL:https://www.countryside-trust.org.uk/event/beach-clean-for-beach-clean-week/
LOCATION:Goodrington Beach\, Paignton\, United Kingdom
CATEGORIES:Litter pick,Rock pooling,Wildlife
ATTACH;FMTTYPE=image/jpeg:https://www.countryside-trust.org.uk/wp-content/uploads/2022/08/2-girls-rockpooling-square-scaled.jpg
ORGANIZER;CN="Marine Conservation Society":MAILTO:info@mcsuk.org
END:VEVENT
END:VCALENDAR